BEGIN:VCALENDAR
VERSION:2.0
PRODID:-//wp-events-plugin.com//7.2.3.1//EN
BEGIN:VEVENT
UID:846@dcsmallbizhelp.com
DTSTART:20250828T140000Z
DTEND:20250828T150000Z
DTSTAMP:20250904T174937Z
URL:https://dcsmallbizhelp.com/events/certified-up-expert-open-hours-copy-
 copy-copy-copy-10/
SUMMARY:Business Foundation Series: The Lean Business Plan
DESCRIPTION:The Business Foundation Series: Lean Business Plan webinar will
  walk attendees through a lean business planning approach that can be used
  as an internal roadmap and a vehicle for attracting capital investment.
ATTACH;FMTTYPE=image/jpeg:https://dcsmallbizhelp.com/wp-content/uploads/20
 25/06/Screenshot-2025-06-09-at-2.40.07 PM.png
CATEGORIES:Technical Assistance,Webinars
LOCATION:\, \, 
X-APPLE-STRUCTURED-LOCATION;VALUE=URI;X-ADDRESS=\, ;X-APPLE-RADIUS=100;X-TI
 TLE=:geo:0,0
END:VEVENT
END:VCALENDAR