BEGIN:VCALENDAR
VERSION:2.0
PRODID:-//wp-events-plugin.com//7.2.3.1//EN
BEGIN:VEVENT
UID:804@dcsmallbizhelp.com
DTSTART:20250807T130000Z
DTEND:20250807T140000Z
DTSTAMP:20250811T141755Z
URL:https://dcsmallbizhelp.com/events/certified-up-expert-open-hours-2-cop
 y-copy-copy/
SUMMARY:Turn Your Expertise Into Income - How to Create E-Books\, Templates
  and Courses That Sell
DESCRIPTION:Learn the process of transforming your business knowledge into 
 digital products people want to buy.
ATTACH;FMTTYPE=image/jpeg:https://dcsmallbizhelp.com/wp-content/uploads/20
 25/07/download.png
CATEGORIES:Technical Assistance,Workshop
LOCATION:\, \, 
X-APPLE-STRUCTURED-LOCATION;VALUE=URI;X-ADDRESS=\, ;X-APPLE-RADIUS=100;X-TI
 TLE=:geo:0,0
END:VEVENT
END:VCALENDAR