BEGIN:VCALENDAR
VERSION:2.0
PRODID:-//wp-events-plugin.com//7.2.3.1//EN
BEGIN:VEVENT
UID:991@dcsmallbizhelp.com
DTSTART:20260218T150000Z
DTEND:20260218T160000Z
DTSTAMP:20260130T160908Z
URL:https://dcsmallbizhelp.com/events/brand-protection-and-trademark-101-l
 egal-basics-for-small-businesses/
SUMMARY:Brand Protection and Trademark 101: Legal Basics for Small Business
 es
DESCRIPTION:This session goes to what trademarks can protect names\, logos\
 , and taglines for your business
ATTACH;FMTTYPE=image/jpeg:https://dcsmallbizhelp.com/wp-content/uploads/20
 25/08/SSTB.png
CATEGORIES:Workshop
END:VEVENT
END:VCALENDAR