BEGIN:VCALENDAR
VERSION:2.0
PRODID:-//wp-events-plugin.com//7.2.3.1//EN
BEGIN:VEVENT
UID:1063@dcsmallbizhelp.com
DTSTART:20260424T090000Z
DTEND:20260425T220000Z
DTSTAMP:20260411T142740Z
URL:https://dcsmallbizhelp.com/events/black-women-in-food-summit/
SUMMARY:Black Women In Food Summit
DESCRIPTION:The 4th Annual Black Women in Food Summit is the premier event 
 celebrating the talent\, resilience\, and innovation in the food industry.
ATTACH;FMTTYPE=image/jpeg:https://dcsmallbizhelp.com/wp-content/uploads/20
 26/04/download.png
CATEGORIES:Conference / Summit,Networking Event
LOCATION:\, \, 
X-APPLE-STRUCTURED-LOCATION;VALUE=URI;X-ADDRESS=\, ;X-APPLE-RADIUS=100;X-TI
 TLE=:geo:0,0
END:VEVENT
END:VCALENDAR