BEGIN:VCALENDAR
VERSION:2.0
PRODID:-//wp-events-plugin.com//7.2.3.1//EN
BEGIN:VEVENT
UID:879@dcsmallbizhelp.com
DTSTART:20251030T150000Z
DTEND:20251030T161500Z
DTSTAMP:20251001T163250Z
URL:https://dcsmallbizhelp.com/events/beyond-formation-making-the-most-of-
 your-llc-or-corporation/
SUMMARY:Beyond Formation: Making the Most of Your LLC or Corporation
DESCRIPTION:This advanced session is designed for entrepreneurs who are rea
 dy to take the next step in managing\, optimizing\, and sustaining their b
 usiness structure for long-term success.
ATTACH;FMTTYPE=image/jpeg:https://dcsmallbizhelp.com/wp-content/uploads/20
 25/08/SSTB.png
CATEGORIES:Webinars
LOCATION:\, \, 
X-APPLE-STRUCTURED-LOCATION;VALUE=URI;X-ADDRESS=\, ;X-APPLE-RADIUS=100;X-TI
 TLE=:geo:0,0
END:VEVENT
END:VCALENDAR