BEGIN:VCALENDAR
VERSION:2.0
PRODID:-//wp-events-plugin.com//7.2.3.1//EN
BEGIN:VEVENT
UID:1014@dcsmallbizhelp.com
DTSTART:20260224T120000Z
DTEND:20260224T133000Z
DTSTAMP:20260202T042325Z
URL:https://dcsmallbizhelp.com/events/accessing-nonprofit-grants-sponsorsh
 ips-resources/
SUMMARY:Accessing Nonprofit Grants\, Sponsorships & Resources
DESCRIPTION:This workshop provides a high-level overview of the online spac
 es available for major sources of funding and nonprofit resources.
ATTACH;FMTTYPE=image/jpeg:https://dcsmallbizhelp.com/wp-content/uploads/20
 25/07/download.png
CATEGORIES:Webinars
LOCATION:\, \, 
X-APPLE-STRUCTURED-LOCATION;VALUE=URI;X-ADDRESS=\, ;X-APPLE-RADIUS=100;X-TI
 TLE=:geo:0,0
END:VEVENT
END:VCALENDAR