BEGIN:VCALENDAR
VERSION:2.0
PRODID:-//wp-events-plugin.com//7.2.3.1//EN
BEGIN:VEVENT
UID:409@dcsmallbizhelp.com
DTSTART:20250225T140000Z
DTEND:20250225T150000Z
DTSTAMP:20250120T190759Z
URL:https://dcsmallbizhelp.com/events/abc-101-alcoholic-beverage-license/
SUMMARY:ABC 101- Alcoholic Beverage License
DESCRIPTION:This course introduces new and prospective licensees to key alc
 ohol operator basics such as local laws\, enforcement\, and best practices
 .   
ATTACH;FMTTYPE=image/jpeg:https://dcsmallbizhelp.com/wp-content/uploads/20
 24/07/pexels-kelly-1179532-3030290-scaled.jpg
CATEGORIES:Webinars
END:VEVENT
END:VCALENDAR